BEGIN:VCALENDAR
VERSION:2.0
PRODID:-//nwlincoln.org//NONSGML kigkonsult.se iCalcreator 2.30.10//
CALSCALE:GREGORIAN
METHOD:PUBLISH
UID:816071d2-8230-4fbd-a923-f91cb7b9066d
X-WR-CALDESC:Libraries aren't just for books. The Near South Tool Library i
 s a 'library of things' project organized by neighbors for neighbors\, wit
 h the support of NeighborWorks Lincoln and space provided by First-Plymout
 h Church!\n\nStaffed entirely by volunteers\, all Lincolnites are welcome 
 to stop by during open hours to borrow tools donated by residents from acr
 oss the city.
X-WR-RELCALID:c24bffd76ad6a72252c775f02a23c9ed
X-WR-TIMEZONE:America/Chicago
BEGIN:VTIMEZONE
TZID:America/Chicago
BEGIN:STANDARD
TZNAME:CST
DTSTART:20251102T020000
TZOFFSETFROM:-0500
TZOFFSETTO:-0600
RDATE:20261101T020000
END:STANDARD
BEGIN:DAYLIGHT
TZNAME:CDT
DTSTART:20260308T020000
TZOFFSETFROM:-0600
TZOFFSETTO:-0500
RDATE:20270314T020000
END:DAYLIGHT
END:VTIMEZONE
BEGIN:VEVENT
UID:f9a1d664-04b4-43fc-a01c-46be5b85dfec
DTSTAMP:20260422T153045Z
DESCRIPTION:Libraries aren't just for books. The Near South Tool Library is
  a 'library of things' project organized by neighbors for neighbors\, with
  the support of NeighborWorks Lincoln and space provided by First-Plymouth
  Church!\n\nStaffed entirely by volunteers\, all Lincolnites are welcome t
 o stop by during open hours to borrow tools donated by residents from acro
 ss the city.
DTSTART;TZID=America/Chicago:20260425T100000
DTEND;TZID=America/Chicago:20260425T140000
LOCATION:2045 E Streert\, Lincoln\, NE 68510 US
SUMMARY:Tool Library Open
END:VEVENT
END:VCALENDAR
