BEGIN:VCALENDAR
VERSION:2.0
PRODID:-//nwlincoln.org//NONSGML kigkonsult.se iCalcreator 2.30.10//
CALSCALE:GREGORIAN
METHOD:PUBLISH
UID:1d53290a-c965-4b32-aa2b-77ab67933e17
X-WR-CALDESC:
X-WR-RELCALID:cd86158e5451624ecd5d1df274e96fe3
X-WR-TIMEZONE:America/Chicago
BEGIN:VTIMEZONE
TZID:America/Chicago
BEGIN:STANDARD
TZNAME:CST
DTSTART:20251102T020000
TZOFFSETFROM:-0500
TZOFFSETTO:-0600
RDATE:20261101T020000
END:STANDARD
BEGIN:DAYLIGHT
TZNAME:CDT
DTSTART:20260308T020000
TZOFFSETFROM:-0600
TZOFFSETTO:-0500
RDATE:20270314T020000
END:DAYLIGHT
END:VTIMEZONE
BEGIN:VEVENT
UID:ee4c048c-8712-4eb1-8257-0301c4c72149
DTSTAMP:20260422T154635Z
DESCRIPTION:
DTSTART;TZID=America/Chicago:20260421T173000
DTEND;TZID=America/Chicago:20260421T190000
LOCATION:
SUMMARY:PRCLT Board Meeting
END:VEVENT
END:VCALENDAR
