BEGIN:VCALENDAR
VERSION:2.0
PRODID:-//nwlincoln.org//NONSGML kigkonsult.se iCalcreator 2.30.10//
CALSCALE:GREGORIAN
METHOD:PUBLISH
UID:fcd8b181-1270-47ee-a858-350d38827c75
X-WR-CALDESC:NeighborWorks Lincoln provides a HUD-approved pre-purchase cou
 rse designed to prepare you for home ownership. The Homebuyer Education Cl
 ass is a series of four (4) in-person classes\, typically held on the seco
 nd and third Wednesdays and Thursdays of each month\, from 6 p.m. to 8 p.m
 . \n\nYou must submit an application prior to attending the class. After a
 pplication submission\, you will be contacted by a member of the team with
 in 72 hours to inform you of the status of your application. At that time 
 you will be informed of where you stand on the waitlist to attend classes\
 , as we experience a high volume of requests.
X-WR-RELCALID:e83fb0b1c91743122515229488dc822d
X-WR-TIMEZONE:America/Chicago
BEGIN:VTIMEZONE
TZID:America/Chicago
BEGIN:STANDARD
TZNAME:CST
DTSTART:20251102T020000
TZOFFSETFROM:-0500
TZOFFSETTO:-0600
RDATE:20261101T020000
END:STANDARD
BEGIN:DAYLIGHT
TZNAME:CDT
DTSTART:20260308T020000
TZOFFSETFROM:-0600
TZOFFSETTO:-0500
RDATE:20270314T020000
END:DAYLIGHT
END:VTIMEZONE
BEGIN:VEVENT
UID:e0842a2a-eee2-4a0b-be9e-ab4ebebbf2e4
DTSTAMP:20260422T154345Z
DESCRIPTION:NeighborWorks Lincoln provides a HUD-approved pre-purchase cour
 se designed to prepare you for home ownership. The Homebuyer Education Cla
 ss is a series of four (4) in-person classes\, typically held on the secon
 d and third Wednesdays and Thursdays of each month\, from 6 p.m. to 8 p.m.
  \n\nYou must submit an application prior to attending the class. After ap
 plication submission\, you will be contacted by a member of the team withi
 n 72 hours to inform you of the status of your application. At that time y
 ou will be informed of where you stand on the waitlist to attend classes\,
  as we experience a high volume of requests.
DTSTART;TZID=America/Chicago:20260409T180000
DTEND;TZID=America/Chicago:20260409T200000
LOCATION:NeighborWorks Lincoln Training Center
SUMMARY:Homebuyer Education Class
END:VEVENT
END:VCALENDAR
