BEGIN:VCALENDAR
VERSION:2.0
PRODID:-//nwlincoln.org//NONSGML kigkonsult.se iCalcreator 2.30.10//
CALSCALE:GREGORIAN
METHOD:PUBLISH
UID:c12e8b33-9462-4cf9-b3b1-f614bff80e22
X-WR-CALDESC:Libraries aren't just for books. The Near South Tool Library i
 s a 'library of things' project organized by neighbors for neighbors\, wit
 h the support of NeighborWorks Lincoln and space provided by First-Plymout
 h Church!\n\nStaffed entirely by volunteers\, all Lincolnites are welcome 
 to stop by during open hours to borrow tools donated by residents from acr
 oss the city.
X-WR-RELCALID:f5ab55e0ace53bb4cc64eab6db1cf48d
X-WR-TIMEZONE:America/Chicago
BEGIN:VTIMEZONE
TZID:America/Chicago
BEGIN:STANDARD
TZNAME:CST
DTSTART:20251102T020000
TZOFFSETFROM:-0500
TZOFFSETTO:-0600
RDATE:20261101T020000
END:STANDARD
BEGIN:DAYLIGHT
TZNAME:CDT
DTSTART:20260308T020000
TZOFFSETFROM:-0600
TZOFFSETTO:-0500
RDATE:20270314T020000
END:DAYLIGHT
END:VTIMEZONE
BEGIN:VEVENT
UID:06acfc08-ac65-433a-802c-16109a19a0fa
DTSTAMP:20260422T141553Z
DESCRIPTION:Libraries aren't just for books. The Near South Tool Library is
  a 'library of things' project organized by neighbors for neighbors\, with
  the support of NeighborWorks Lincoln and space provided by First-Plymouth
  Church!\n\nStaffed entirely by volunteers\, all Lincolnites are welcome t
 o stop by during open hours to borrow tools donated by residents from acro
 ss the city.
DTSTART;TZID=America/Chicago:20260421T080000
DTEND;TZID=America/Chicago:20260421T100000
LOCATION:2045 E Streert\, Lincoln\, NE 68510 US
SUMMARY:Tool Library Open
END:VEVENT
END:VCALENDAR
